BEGIN:VCALENDAR
VERSION:2.0
PRODID:-//wp-events-plugin.com//7.2.3.1//EN
TZID:America/Chicago
X-WR-TIMEZONE:America/Chicago
BEGIN:VEVENT
UID:520@kc3562.org
DTSTART;TZID=America/Chicago:20270209T190000
DTEND;TZID=America/Chicago:20270209T200000
DTSTAMP:20260401T114813Z
URL:https://kc3562.org/events/officers-meeting-3-2018-07-10-2018-08-14-201
 8-09-11-2018-10-09-2018-11-13-2018-12-11-2019-01-08-2019-02-12-2019-03-12-
 2019-04-09-2019-05-14-2019-06-11-2019-07-09-2019-08-13-2019-09-10-20-12-20
 27-02-09/
SUMMARY:Officers Meeting
DESCRIPTION:Room: Ministry Room
LOCATION:St. Charles\, 313 Circle Dr\, Hartland\, WI\, 53029\, United State
 s
X-APPLE-STRUCTURED-LOCATION;VALUE=URI;X-ADDRESS=313 Circle Dr\, Hartland\, 
 WI\, 53029\, United States;X-APPLE-RADIUS=100;X-TITLE=St. Charles:geo:0,0
END:VEVENT
BEGIN:VTIMEZONE
TZID:America/Chicago
X-LIC-LOCATION:America/Chicago
BEGIN:STANDARD
DTSTART:20261101T010000
TZOFFSETFROM:-0500
TZOFFSETTO:-0600
TZNAME:CST
END:STANDARD
END:VTIMEZONE
END:VCALENDAR