BEGIN:VCALENDAR
VERSION:2.0
PRODID:-//wp-events-plugin.com//7.2.3.1//EN
TZID:America/Chicago
X-WR-TIMEZONE:America/Chicago
BEGIN:VEVENT
UID:409@kc3562.org
DTSTART;TZID=America/Chicago:20280627T183000
DTEND;TZID=America/Chicago:20280627T203000
DTSTAMP:20260401T114402Z
URL:https://kc3562.org/events/general-council-meeting-3-2025-02-25-2025-03
 -25-2025-04-22-2025-05-27-2025-06-24-2025-07-22-2025-08-26-2025-09-23-2025
 -10-28-2025-11-25-2025-12-23-2026-01-27-2026-02-24-2026-03-24-2026-0-23-20
 28-06-27/
SUMMARY:General Council Meeting
DESCRIPTION:Room: St Anthony Hall
LOCATION:St Anthony on the Lake\, W280N2101 Prospect Ave\, Pewaukee\, WI\, 
 53072\, United States
X-APPLE-STRUCTURED-LOCATION;VALUE=URI;X-ADDRESS=W280N2101 Prospect Ave\, Pe
 waukee\, WI\, 53072\, United States;X-APPLE-RADIUS=100;X-TITLE=St Anthony 
 on the Lake:geo:0,0
END:VEVENT
BEGIN:VTIMEZONE
TZID:America/Chicago
X-LIC-LOCATION:America/Chicago
BEGIN:DAYLIGHT
DTSTART:20280312T030000
TZOFFSETFROM:-0600
TZOFFSETTO:-0500
TZNAME:CDT
END:DAYLIGHT
END:VTIMEZONE
END:VCALENDAR